BEGIN:VCALENDAR
PRODID:-//kirchenweb.ch gmbh//veranstaltungsausgabe v2.0//DE
VERSION:2.0
METHOD:PUBLISH
BEGIN:VEVENT
DTSTART:20260508T160000Z
DTEND:20260508T180000Z
LOCATION:Reformiertes Kirchgemeindehaus\, Jugendkeller\, Aspstrasse 8\,
  4702 Oensingen
TRANSP:OPAQUE
SEQUENCE:0
UID:3654-veranstaltung@ref-oensingen.ch
DTSTAMP:20250910T133827Z
DESCRIPTION:Raum für good vibes und Diskussionen\, Musikanlage\,
  Billardtisch\, Hotdog-Gerät\, Getränke und Snacks.\n\nSozialdiakon Urs
  Wieland\, Einladungen werden verschickt.\n\nKontakt: Sozialdiakon Urs
  Wieland\n\nWeitere Infos: https://www.ref-oensingen.ch/veranstaltung/3654
SUMMARY:Jugendabend
PRIORITY:5
X-MICROSOFT-CDO-IMPORTANCE:1
CLASS:PUBLIC
END:VEVENT
END:VCALENDAR
